BEGIN:VCALENDAR
VERSION:2.0
PRODID:-//CercleCite//NONSGML Event//EN
CALSCALE:GREGORIAN
BEGIN:VEVENT
UID:20210721T024952-2086621134-cerclecite
DTSTAMP;TZID=Europe/Paris:20170428T110000
DTSTART;TZID=Europe/Paris:20170428T110000
DTEND;TZID=Europe/Paris:20170625T190000
SUMMARY:Borderlines (Looking for the Clouds)
CATEGORIES:Expositions
LOCATION:Espace d'exposition Ratskeller (rue du Curé)
DESCRIPTION:https://cerclecite.lu/fr/event/borderlines-looking-for-the-clouds
END:VEVENT
END:VCALENDAR