BEGIN:VCALENDAR
VERSION:2.0
PRODID:-//CercleCite//NONSGML Event//EN
CALSCALE:GREGORIAN
BEGIN:VEVENT
UID:20210721T024958-672083737-cerclecite
DTSTAMP;TZID=Europe/Paris:20200206T110000
DTSTART;TZID=Europe/Paris:20200206T110000
DTEND;TZID=Europe/Paris:20200313T190000
SUMMARY:Fictitious location spotting for a non-existing movie
CATEGORIES:Expositions
LOCATION:Espace d'exposition Ratskeller (rue du Curé)
DESCRIPTION:https://cerclecite.lu/fr/event/fictitious-location-spotting-for-a-non-existing-movie-2
END:VEVENT
END:VCALENDAR