BEGIN:VCALENDAR
VERSION:2.0
PRODID:-//CercleCite//NONSGML Event//EN
CALSCALE:GREGORIAN
BEGIN:VEVENT
UID:20210721T025110-1009994146-cerclecite
DTSTAMP;TZID=Europe/Paris:20180106T200000
DTSTART;TZID=Europe/Paris:20180106T200000
DTEND;TZID=Europe/Paris:20180106T200000
SUMMARY:Concert de Nouvel An
CATEGORIES:Musique
LOCATION:Cercle Cité (entrée principale Place d'Armes)
DESCRIPTION:https://cerclecite.lu/fr/event/concert-de-nouvel-an-2018
END:VEVENT
END:VCALENDAR