BEGIN:VCALENDAR
VERSION:2.0
PRODID:-//CercleCite//NONSGML Event//EN
CALSCALE:GREGORIAN
BEGIN:VEVENT
UID:20211006T082122-348547664-cerclecite
DTSTAMP;TZID=Europe/Paris:20190305T180000
DTSTART;TZID=Europe/Paris:20190305T180000
DTEND;TZID=Europe/Paris:20190305T180000
SUMMARY:Le temps\, tissus de perceptions - Rencontre avec Suzan Noesen
CATEGORIES:Visual arts
LOCATION:Ratskeller exhibition space (rue du Curé)
DESCRIPTION:https://cerclecite.lu/en/event/le-temps-tissus-de-perceptions-rencontre-avec-suzan-noesen
END:VEVENT
END:VCALENDAR