BEGIN:VCALENDAR
VERSION:2.0
PRODID:-//CercleCite//NONSGML Event//EN
CALSCALE:GREGORIAN
BEGIN:VEVENT
UID:20211006T212627-222406449-cerclecite
DTSTAMP;TZID=Europe/Paris:20141108T110000
DTSTART;TZID=Europe/Paris:20141108T110000
DTEND;TZID=Europe/Paris:20150201T190000
SUMMARY:Quatre décennies de création artistique
CATEGORIES:Expositions
LOCATION:Espace d'exposition Ratskeller (rue du Curé)
DESCRIPTION:https://cerclecite.lu/fr/event/quatre-decennies-de-creation-artistique
END:VEVENT
END:VCALENDAR