BEGIN:VCALENDAR
VERSION:2.0
PRODID:-//CercleCite//NONSGML Event//EN
CALSCALE:GREGORIAN
BEGIN:VEVENT
UID:20211006T212644-1150778998-cerclecite
DTSTAMP;TZID=Europe/Paris:20170715T100000
DTSTART;TZID=Europe/Paris:20170715T100000
DTEND;TZID=Europe/Paris:20170910T190000
SUMMARY:Métiers d'antan et travail manuel
CATEGORIES:Exhibitions
LOCATION:Ratskeller exhibition space (rue du Curé)
DESCRIPTION:https://cerclecite.lu/en/event/metiers-dantan-et-travail-manuel
END:VEVENT
END:VCALENDAR